BEGIN:VCALENDAR
VERSION:2.0
PRODID:-//ChamberMaster//Event Calendar 2.0//EN
METHOD:PUBLISH
X-PUBLISHED-TTL:P1H
REFRESH-INTERVAL:P1H
CALSCALE:GREGORIAN
BEGIN:VTIMEZONE
TZID:America/Denver
BEGIN:DAYLIGHT
RRULE:FREQ=YEARLY;BYMONTH=3;BYDAY=2SU
DTSTART:20070101T000000
TZOFFSETFROM:-0700
TZOFFSETTO:-0600
TZNAME:Mountain Daylight Time
END:DAYLIGHT
BEGIN:STANDARD
RRULE:FREQ=YEARLY;BYMONTH=11;BYDAY=1SU
DTSTART:20070101T000000
TZOFFSETFROM:-0600
TZOFFSETTO:-0700
TZNAME:Mountain Standard Time
END:STANDARD
END:VTIMEZONE
BEGIN:VEVENT
DTSTART;TZID=America/Denver:20260912T190000
DTEND;TZID=America/Denver:20260912T213000
X-MICROSOFT-CDO-ALLDAYEVENT:FALSE
SUMMARY:Brash Rodeo: Beauties and the Beasts
DESCRIPTION:We're bringing back the hottest night of broncs\, bulls and barrel racers to battle it out. Featuring world\, region\, and state champion professional bull riders\, saddle bronc riders\, barrel racers\, and livestock from the PBR\, NRA and INFR.https://glaciercountryrodeo.com/
X-ALT-DESC;FMTTYPE=text/html:<!DOCTYPE html><html><head><title></title></head><body aria-disabled="false" spellcheck="false"><p>We&rsquo\;re bringing back the hottest night of broncs\, bulls and barrel racers to battle it out. Featuring world\, region\, and state champion professional bull riders\, saddle bronc riders\, barrel racers\, and livestock from the PBR\, NRA and INFR.</p><p><a fr-original-style="" href="https://glaciercountryrodeo.com/" style="user-select: auto\;">https://glaciercountryrodeo.com/</a></p></body></html>
LOCATION:167 Half Moon Road Columbia Falls MT 59912
UID:e.1567.1440544
SEQUENCE:3
DTSTAMP:20260421T084039Z
URL:https://business.kalispellchamber.com/chamber-calendar/Details/brash-rodeo-beauties-and-the-beasts-1705536?sourceTypeId=Hub
END:VEVENT
END:VCALENDAR
