BEGIN:VCALENDAR
VERSION:2.0
PRODID:-//ChamberMaster//Event Calendar 2.0//EN
METHOD:PUBLISH
X-PUBLISHED-TTL:P1H
REFRESH-INTERVAL:P1H
CALSCALE:GREGORIAN
BEGIN:VTIMEZONE
TZID:America/Denver
BEGIN:DAYLIGHT
RRULE:FREQ=YEARLY;BYMONTH=3;BYDAY=2SU
DTSTART:20070101T000000
TZOFFSETFROM:-0700
TZOFFSETTO:-0600
TZNAME:Mountain Daylight Time
END:DAYLIGHT
BEGIN:STANDARD
RRULE:FREQ=YEARLY;BYMONTH=11;BYDAY=1SU
DTSTART:20070101T000000
TZOFFSETFROM:-0600
TZOFFSETTO:-0700
TZNAME:Mountain Standard Time
END:STANDARD
END:VTIMEZONE
BEGIN:VEVENT
DTSTART;VALUE=DATE:20220730
DTEND;VALUE=DATE:20220801
TRANSP:TRANSPARENT
X-MICROSOFT-CDO-ALLDAYEVENT:TRUE
SUMMARY:MONTANA RENAISSANCE FAIRE!
DESCRIPTION:Get ready for non-stop entertainment\, historic musical acts\, comedic characters\, and of course\, an array of authentic medieval games! Patrons will witness the high energy\, real-life battles\, vivid raw horse to ground take downs\, and the sheer excitement of a high speed joust! An action packed Hollywood worthy Tournament\, the Dark Knights are truly the heavyweights of medieval warfare
X-ALT-DESC;FMTTYPE=text/html:<!DOCTYPE html><html><head><title></title></head><body aria-disabled="false" spellcheck="false"><p>Get ready for non-stop entertainment\, historic musical acts\, comedic characters\, and of course\, an array of authentic medieval games! Patrons will witness the high energy\, real-life battles\, vivid raw horse to ground take downs\, and the sheer excitement of a high speed joust! An action packed Hollywood worthy Tournament\, the Dark Knights are truly the heavyweights of medieval warfare</p></body></html>
LOCATION:3630 Hwy 93 N Kalispell MT 59901
UID:e.1567.668991
SEQUENCE:3
DTSTAMP:20260419T125749Z
URL:https://business.kalispellchamber.com/chamber-calendar/Details/montana-renaissance-faire-703608?sourceTypeId=Hub
END:VEVENT
END:VCALENDAR
